BEGIN:VCALENDAR
VERSION:2.0
PRODID:-//proWAL  Wohnen - Arbeiten - Leben - ECPv6.15.11//NONSGML v1.0//EN
CALSCALE:GREGORIAN
METHOD:PUBLISH
X-ORIGINAL-URL:https://prowal.org
X-WR-CALDESC:Veranstaltungen für proWAL  Wohnen - Arbeiten - Leben
REFRESH-INTERVAL;VALUE=DURATION:PT1H
X-Robots-Tag:noindex
X-PUBLISHED-TTL:PT1H
BEGIN:VTIMEZONE
TZID:UTC
BEGIN:STANDARD
TZOFFSETFROM:+0000
TZOFFSETTO:+0000
TZNAME:UTC
DTSTART:20230101T000000
END:STANDARD
END:VTIMEZONE
BEGIN:VEVENT
DTSTART;TZID=UTC:20240420T190000
DTEND;TZID=UTC:20240420T220000
DTSTAMP:20260419T142424
CREATED:20240418T095356Z
LAST-MODIFIED:20240418T095524Z
UID:2236-1713639600-1713650400@prowal.org
SUMMARY:Irischer Abend
DESCRIPTION:Am Samstag laden wir herzlich ein zu einem Abend mit live Musik und Erzählungen von Karen Hidden-Sturm\, einer echten Irin! Viel Spaß dabei!
URL:https://prowal.org/event/irischer-abend/
LOCATION:Saarland
ATTACH;FMTTYPE=image/jpeg:https://prowal.org/wp-content/uploads/2024/04/irischer-Abend.jpg
END:VEVENT
END:VCALENDAR