BEGIN:VCALENDAR
VERSION:2.0
PRODID:-//proWAL  Wohnen - Arbeiten - Leben - ECPv6.15.11//NONSGML v1.0//EN
CALSCALE:GREGORIAN
METHOD:PUBLISH
X-ORIGINAL-URL:https://prowal.org
X-WR-CALDESC:Veranstaltungen für proWAL  Wohnen - Arbeiten - Leben
REFRESH-INTERVAL;VALUE=DURATION:PT1H
X-Robots-Tag:noindex
X-PUBLISHED-TTL:PT1H
BEGIN:VTIMEZONE
TZID:UTC
BEGIN:STANDARD
TZOFFSETFROM:+0000
TZOFFSETTO:+0000
TZNAME:UTC
DTSTART:20220101T000000
END:STANDARD
END:VTIMEZONE
BEGIN:VEVENT
DTSTART;TZID=UTC:20231013T190000
DTEND;TZID=UTC:20231013T210000
DTSTAMP:20260423T134633
CREATED:20231013T080845Z
LAST-MODIFIED:20231013T080845Z
UID:2030-1697223600-1697230800@prowal.org
SUMMARY:Tanzen mit Ingeburg
DESCRIPTION:Einladung zum jahreszeitlichen Kreistanzen um 19 Uhr mit Ingeburg im Eurythmieraum der Walddorfschule Saar-Hunsrück
URL:https://prowal.org/event/tanzen-mit-ingeburg/
LOCATION:Saarland
ATTACH;FMTTYPE=image/jpeg:https://prowal.org/wp-content/uploads/2023/10/20231013_1000471.jpg
END:VEVENT
BEGIN:VEVENT
DTSTART;TZID=UTC:20231018T190000
DTEND;TZID=UTC:20231018T210000
DTSTAMP:20260423T134633
CREATED:20231008T190651Z
LAST-MODIFIED:20231013T073834Z
UID:1994-1697655600-1697662800@prowal.org
SUMMARY:Offener Mittwochstreff ab 19 Uhr
DESCRIPTION:Am Mittwoch\, den 18.Oktober findet ab 19h unser „Offener Treff“ statt!\n\nZeit zum Begegnen\, Kennen lernen\, Erzählen\, Spielen\, Musik machen…..\n\nunser Spieleabend\, der schon oft angefragt wurde\, könnte auch an diesem Tag stattfinden.\n\nAb dem 11.Oktober 23 jeden Mittwochabend ab 19h im neueröffneten Gastraum des alten GASThauses Stephan.\n\nWir freuen uns auf geselliges Beisammensein!
URL:https://prowal.org/event/offener-mittwochstreff-ab-19-uhr/
LOCATION:proWAL-GASThaus\, Türkismühler Straße 2\, Nohfelden\, Saarland\, 66625\, Deutschland
ATTACH;FMTTYPE=image/jpeg:https://prowal.org/wp-content/uploads/2023/10/20230926_190436-e1696791710648.jpg
END:VEVENT
BEGIN:VEVENT
DTSTART;TZID=UTC:20231020T130000
DTEND;TZID=UTC:20231020T140000
DTSTAMP:20260423T134633
CREATED:20231013T074927Z
LAST-MODIFIED:20231013T080920Z
UID:2024-1697806800-1697810400@prowal.org
SUMMARY:Mittagstisch
DESCRIPTION:  Einladung zum Mittagstisch im GASTraum um 13h – es gibt eine leckere Suppe\, Salat und Nachtisch\n                               ab dieser Woche wird es jeden Freitag einen Mittagstisch geben
URL:https://prowal.org/event/mittagstisch/
LOCATION:proWAL-GASThaus\, Türkismühler Straße 2\, Nohfelden\, Saarland\, 66625\, Deutschland
ATTACH;FMTTYPE=image/jpeg:https://prowal.org/wp-content/uploads/2023/10/20230926_132212.jpg
END:VEVENT
END:VCALENDAR