BEGIN:VCALENDAR
VERSION:2.0
PRODID:-//proWAL  Wohnen - Arbeiten - Leben - ECPv6.15.11//NONSGML v1.0//EN
CALSCALE:GREGORIAN
METHOD:PUBLISH
X-WR-CALNAME:proWAL  Wohnen - Arbeiten - Leben
X-ORIGINAL-URL:https://prowal.org
X-WR-CALDESC:Veranstaltungen für proWAL  Wohnen - Arbeiten - Leben
REFRESH-INTERVAL;VALUE=DURATION:PT1H
X-Robots-Tag:noindex
X-PUBLISHED-TTL:PT1H
BEGIN:VTIMEZONE
TZID:UTC
BEGIN:STANDARD
TZOFFSETFROM:+0000
TZOFFSETTO:+0000
TZNAME:UTC
DTSTART:20220101T000000
END:STANDARD
END:VTIMEZONE
BEGIN:VEVENT
DTSTART;VALUE=DATE:20230513
DTEND;VALUE=DATE:20230514
DTSTAMP:20260423T211443
CREATED:20230507T144918Z
LAST-MODIFIED:20230507T144919Z
UID:1757-1683936000-1684022399@prowal.org
SUMMARY:Immer Samstags: Arbeiten und Schlemmen
DESCRIPTION:Jeden Samstag: Arbeiten und Schlemmen
URL:https://prowal.org/event/immer-samstags-arbeiten-und-schlemmen/
LOCATION:proWAL\, Am Bungert 3\, Nohfelden-Walhausen\, 66625
ATTACH;FMTTYPE=image/jpeg:https://prowal.org/wp-content/uploads/2022/03/Urlaub-gegen-Hand.jpg
END:VEVENT
END:VCALENDAR