BEGIN:VCALENDAR
VERSION:2.0
PRODID:-//proWAL  Wohnen - Arbeiten - Leben - ECPv6.15.11//NONSGML v1.0//EN
CALSCALE:GREGORIAN
METHOD:PUBLISH
X-WR-CALNAME:proWAL  Wohnen - Arbeiten - Leben
X-ORIGINAL-URL:https://prowal.org
X-WR-CALDESC:Veranstaltungen für proWAL  Wohnen - Arbeiten - Leben
REFRESH-INTERVAL;VALUE=DURATION:PT1H
X-Robots-Tag:noindex
X-PUBLISHED-TTL:PT1H
BEGIN:VTIMEZONE
TZID:UTC
BEGIN:STANDARD
TZOFFSETFROM:+0000
TZOFFSETTO:+0000
TZNAME:UTC
DTSTART:20230101T000000
END:STANDARD
END:VTIMEZONE
BEGIN:VEVENT
DTSTART;TZID=UTC:20260424T130000
DTEND;TZID=UTC:20260424T140000
DTSTAMP:20260425T150623
CREATED:20231013T084522Z
LAST-MODIFIED:20260416T083904Z
UID:2026-1777035600-1777039200@prowal.org
SUMMARY:Mittagstisch
DESCRIPTION:Jeden Freitag: Einladung zum Mittagstisch im proWAL-GASThaus\, ehemaliges Gasthaus Stephan um 13h – es gibt eine leckeres Hauptgericht\, Salat und Nachtisch.\n\nGuten Appetit!
URL:https://prowal.org/event/mittagstisch-2/
LOCATION:proWAL-GASThaus\, Türkismühler Straße 2\, Nohfelden\, Saarland\, 66625\, Deutschland
ATTACH;FMTTYPE=image/jpeg:https://prowal.org/wp-content/uploads/2023/10/20240413_131054.jpg
END:VEVENT
BEGIN:VEVENT
DTSTART;TZID=UTC:20260421T190000
DTEND;TZID=UTC:20260421T210000
DTSTAMP:20260425T150623
CREATED:20260119T182436Z
LAST-MODIFIED:20260416T083931Z
UID:2591-1776798000-1776805200@prowal.org
SUMMARY:Anthroposophischer Lesekreis
DESCRIPTION:Herzliche Einladung zu unserem Lesekreis an jedem Dienstag Abend\, der sich mit Lektüre von Rudolf Steiner und anderen anthroposophischen Autor*innen beschäftigt.
URL:https://prowal.org/event/anthroposophischer-lesekreis/
LOCATION:proWAL-GASThaus\, Türkismühler Straße 2\, Nohfelden\, Saarland\, 66625\, Deutschland
ATTACH;FMTTYPE=image/webp:https://prowal.org/wp-content/uploads/2026/01/Rudolf-SteinerDas-Wahre-das-Schoene-das-Gute-Die-Zukunft-von-Philosophie-Kosmologie-und-Religion.webp
END:VEVENT
BEGIN:VEVENT
DTSTART;TZID=UTC:20260419T160000
DTEND;TZID=UTC:20260419T173000
DTSTAMP:20260425T150623
CREATED:20240912T102806Z
LAST-MODIFIED:20260416T083651Z
UID:2375-1776614400-1776619800@prowal.org
SUMMARY:Gemeinsam nicht alleinsam- tönen und klingen wir zusammen!
DESCRIPTION:proWAL lädt herzlich ein zum gemeinsamen Singen und Klingen! Die nächsten Sessions werden Simon und Selina mit uns Tönen und Trommeln! \nStimme ist reine Energie. Wenn wir gemeinsam tönen\, erschaffen wir einen Raum jenseits von Worten der Himmel und Erde verbindet. In diesem rituellen Raum geht es nicht um Noten\, sondern um Präsenz. Wir summen uns in die Stille\, tönen uns in die Ekstase und erfahren die heilsame Kraft der Gemeinschaft. Werde Teil eines Klangraums\, der direkt die Seele berührt. Bringt gerne noch zusätzlich Instrumente mit\, wie z.B. Trommeln\, Rasseln\, Didgeridoo\, etc. Ort: bei schönen Wetter auf dem proWAL-Hof\, bei Regen im GASThaus
URL:https://prowal.org/event/chorsingen/
LOCATION:proWal-Hof\, Schoosbergstr. (Hinter dem Friedhof)\, Walhausen\, 66625
ATTACH;FMTTYPE=image/webp:https://prowal.org/wp-content/uploads/2024/09/40570152-gruppe-von-schlagzeug-instrumente-foto.webp
END:VEVENT
BEGIN:VEVENT
DTSTART;TZID=UTC:20260417T190000
DTEND;TZID=UTC:20260417T203000
DTSTAMP:20260425T150623
CREATED:20260416T082450Z
LAST-MODIFIED:20260416T082450Z
UID:2686-1776452400-1776457800@prowal.org
SUMMARY:Vortrag zu Permakultur mit Matthias Schneider
DESCRIPTION:Permakultur ist in aller Munde\, doch was steckt eigentlich dahinter? Es ist mehr als\n„nur“ der Anbau von Bio-Gemüse in Mischkultur im Selbstversorgergarten\, es ist\neine ganze Lebensphilosophie. Mit dem Vortrag möchte Matthias anregen\, motivieren und begeistern\, die\nVersorgung mit Lebens-Mittel neu zu denken. Der Vortrag findet auf freiwilliger Schenkungsbasis statt – entscheide nach\ndeinem Bauchgefühl\, was es dir wert ist.
URL:https://prowal.org/event/vortrag-zu-permakultur-mit-matthias-schneider/
LOCATION:proWAL-GASThaus\, Türkismühler Straße 2\, Nohfelden\, Saarland\, 66625\, Deutschland
ATTACH;FMTTYPE=application/pdf:https://prowal.org/wp-content/uploads/2026/04/EW_Vortrag_Permakultur_prowal_20260305-13.pdf
END:VEVENT
BEGIN:VEVENT
DTSTART;TZID=UTC:20260417T130000
DTEND;TZID=UTC:20260417T140000
DTSTAMP:20260425T150623
CREATED:20240407T105351Z
LAST-MODIFIED:20260408T080237Z
UID:2233-1776430800-1776434400@prowal.org
SUMMARY:Mittagstisch
DESCRIPTION:Jeden Freitag: Einladung zum Mittagstisch im proWAL-GASThaus\, ehemaliges Gasthaus Stephan um 13h – es gibt eine leckeres Hauptgericht\, Salat und Nachtisch.\n\nGuten Appetit!
URL:https://prowal.org/event/mittagstisch-3/
LOCATION:proWAL-GASThaus\, Türkismühler Straße 2\, Nohfelden\, Saarland\, 66625\, Deutschland
ATTACH;FMTTYPE=image/jpeg:https://prowal.org/wp-content/uploads/2024/04/20250823_131614.jpg
END:VEVENT
BEGIN:VEVENT
DTSTART;TZID=UTC:20260415T190000
DTEND;TZID=UTC:20260415T210000
DTSTAMP:20260425T150623
CREATED:20250413T124143Z
LAST-MODIFIED:20260408T080421Z
UID:2461-1776279600-1776286800@prowal.org
SUMMARY:Spieleabend am 3. Mittwoch im Monat
DESCRIPTION:Herzliche Einladung von Petra G. und Alfred zum Spieleabend! \nWir freuen uns auf ein lustiges Beisammensein!
URL:https://prowal.org/event/spieleabend/
LOCATION:Saarland
ATTACH;FMTTYPE=image/jpeg:https://prowal.org/wp-content/uploads/2025/04/ludo-7629550_960_720.jpg
END:VEVENT
BEGIN:VEVENT
DTSTART;TZID=UTC:20260320T190000
DTEND;TZID=UTC:20260320T203000
DTSTAMP:20260425T150623
CREATED:20260318T093442Z
LAST-MODIFIED:20260318T093442Z
UID:2670-1774033200-1774038600@prowal.org
SUMMARY:Herzmeditation und Gong
DESCRIPTION:Die Herzchakra Meditation ist eine dynamische Abfolge von einfachen Übungen\, die leicht an Qi Gong Bewegungsabläufe erinnern und u.a. hilfreich dabei sind\, vom Kopf ins Herz zu gelangen.\nDiese Einheit wird ungefähr 20 Minuten dauern.\n\nNach dieser Meditation erfolgt eine Ruhephase.\nDie Ruhephase findet im Liegen statt. Sie wird unterstützt durch Klänge eines meditativ gespielten Paiste Symphonic Gongs und dauert ebenfalls circa 20 Minuten.\n\nBitte bringt folgendes mit:\n\nBequeme Kleidung\, \nvielleicht auch etwas zu trinken (Wasserflasche)\,\nwarme Socken\neine warme Unterlage\, \neine leichte Decke und ein Kissen\,\nso dass Ihr entspannt 20 Minuten liegen könnt.\n\nWir freuen uns sehr auf diesen Abend\,
URL:https://prowal.org/event/herzmeditation-und-gong/
LOCATION:proWAL-GASThaus\, Türkismühler Straße 2\, Nohfelden\, Saarland\, 66625\, Deutschland
ATTACH;FMTTYPE=image/webp:https://prowal.org/wp-content/uploads/2026/03/traditioneller-orientalischer-gong-vor-einem-weissen-hintergrund_1377216-12824.webp
END:VEVENT
BEGIN:VEVENT
DTSTART;TZID=UTC:20260313T190000
DTEND;TZID=UTC:20260313T210000
DTSTAMP:20260425T150623
CREATED:20250408T141054Z
LAST-MODIFIED:20260210T140124Z
UID:2448-1773428400-1773435600@prowal.org
SUMMARY:Konzert mit "seelig-süß-sauer"
DESCRIPTION:Wir freuen uns auf einen unterhaltsamen Abend mit dem Trio von „seelig-süß-sauer“! Lasst Euch in dieser besonderen Wohlfühlzeit von zauberhaften\nKlängen\, Wortwandeleien\, frischfröhlichfreier Frauenfreude und\nberührender SeelenMusik des Trios „seelig• süß• sauer“\nIJah S. Seelig\, Tanja Endres-Klemm und Kathrin Hoffmann\nüberraschen\, tragen\, berühren … und schwingt Euch mit ein!\nIn ihrem Gepäck haben sie viele ausgefallene Instrumente\,\neigene Stücke und ganz spontan entstehende Liedtexte und\nImprovisationen. Das Konzert dauert ca 2 Stunden. Eintritt auf\nSpendenbasis nach eigenen Möglichkeiten ( ab 10 € ).
URL:https://prowal.org/event/konzert-mit-seligsuesssauer/
LOCATION:proWAL-GASThaus\, Türkismühler Straße 2\, Nohfelden\, Saarland\, 66625\, Deutschland
ATTACH;FMTTYPE=application/pdf:https://prowal.org/wp-content/uploads/2025/04/Wohlfuehlkonzert-GASThaus26-1.pdf
END:VEVENT
BEGIN:VEVENT
DTSTART;TZID=UTC:20260307T190000
DTEND;TZID=UTC:20260307T210000
DTSTAMP:20260425T150623
CREATED:20260210T134724Z
LAST-MODIFIED:20260225T063330Z
UID:2609-1772910000-1772917200@prowal.org
SUMMARY:Konzert "Akustikduo Liederin"
DESCRIPTION:Herzliche Einladung! „Das Akustikduo Liederin aus Bremen spielt ein poetisches Konzert. Ihre selbstkomponierten Songs nennen sie psychedelic Chansons: Atmosphärische Musik mit Gesang\, zwei Gitarren\, Percussion\, deutschen Texten und Flowerpower Flair.“ Wir freuen uns auf einen entspannten Abend!
URL:https://prowal.org/event/konzert-akustikduo-liederin/
LOCATION:proWAL-GASThaus\, Türkismühler Straße 2\, Nohfelden\, Saarland\, 66625\, Deutschland
ATTACH;FMTTYPE=application/pdf:https://prowal.org/wp-content/uploads/2026/02/Einladung_Liederin-Maerz_2026.pdf
END:VEVENT
BEGIN:VEVENT
DTSTART;TZID=UTC:20260130T190000
DTEND;TZID=UTC:20260130T210000
DTSTAMP:20260425T150623
CREATED:20260109T150631Z
LAST-MODIFIED:20260128T091508Z
UID:2582-1769799600-1769806800@prowal.org
SUMMARY:Gitarrenkonzert mit "bornzero"
DESCRIPTION:Dieter „bornzero“ Bornschlegel kommt am 30. Januar 26 ins proWAL-GASThaus. Er ist der „ungekrönte König der Horizontalgitarre“\, sitzt passgenau zwischen allen Stühlen (Kultur News!) und ist der Mann mit dem ganz eigenen Kopf‘ (Rolling Stone). „Psychedelic freestyle guitar“ nennt der Marburger Gitarren Virtuose\, Sänger und Songschreiber DIETER „bornzero“ BORNSCHLEGEL seine elektroakustische Soloperformance. Wir freuen uns auf einen besonderen Abend!
URL:https://prowal.org/event/gitarrenkonzert-mit-bornzero/
LOCATION:proWAL-GASThaus\, Türkismühler Straße 2\, Nohfelden\, Saarland\, 66625\, Deutschland
ATTACH;FMTTYPE=image/jpeg:https://prowal.org/wp-content/uploads/2026/01/Plakat_proWAL-bornzero.jpg
END:VEVENT
BEGIN:VEVENT
DTSTART;TZID=UTC:20260124T150000
DTEND;TZID=UTC:20260124T170000
DTSTAMP:20260425T150623
CREATED:20260119T183320Z
LAST-MODIFIED:20260119T183339Z
UID:2594-1769266800-1769274000@prowal.org
SUMMARY:Kurs in Acryl- und Aquarellmalerei
DESCRIPTION:15h – 17h Malkurs mit Liudmila! Sie zeigt uns die Techniken der Acryl- und Aquarellmalerei und des Zeichnens. Es sind keine Vorkenntnisse erforderlich. Unkostenbeitrag: 25€
URL:https://prowal.org/event/kurs-in-acryl-und-aquarellmalerei/
LOCATION:proWAL-GASThaus\, Türkismühler Straße 2\, Nohfelden\, Saarland\, 66625\, Deutschland
ATTACH;FMTTYPE=image/webp:https://prowal.org/wp-content/uploads/2026/01/Aquarellmalerei_Landschaft_Malreise.webp
END:VEVENT
BEGIN:VEVENT
DTSTART;TZID=UTC:20260108T180000
DTEND;TZID=UTC:20260108T190000
DTSTAMP:20260425T150623
CREATED:20250825T110942Z
LAST-MODIFIED:20260119T181452Z
UID:2508-1767895200-1767898800@prowal.org
SUMMARY:Erdheilungsritual
DESCRIPTION:Marita lädt jeden 4. Mittwoch im Monat zu einem Erdheilungsritual ein mit Trommeln und dem Rezitieren heilender Mantren und Verse. Lasst uns mit Mutter Erde auf heilende Weise verbinden\, denn sie ist die Grundlage allen Lebens! Herzlich willkommen! Bei trockenem Wetter findet das Ritual auf dem proWAL-Hof statt\, bei Regen im GASThaus\, Türkismühler Str. 2.
URL:https://prowal.org/event/erdheilungsritual/
LOCATION:proWal-Hof\, Schoosbergstr. (Hinter dem Friedhof)\, Walhausen\, 66625
ATTACH;FMTTYPE=image/jpeg:https://prowal.org/wp-content/uploads/2025/08/free-photo-of-schwarz-und-weiss-schwarzweiss-spielen-musik.jpeg
END:VEVENT
BEGIN:VEVENT
DTSTART;TZID=UTC:20251005T140000
DTEND;TZID=UTC:20251005T180000
DTSTAMP:20260425T150623
CREATED:20250913T080531Z
LAST-MODIFIED:20250913T080732Z
UID:2529-1759672800-1759687200@prowal.org
SUMMARY:10 Jahre proWAL Feier
DESCRIPTION:proWAL wird 10 Jahre alt und feiert dies! Im Rahmen des Sonntagcafés wird es im GASThaus kurze Ansprachen geben\, musikalische Begleitung und die Premiere unseres tollen neuen Films von und über proWAL! Im Laufe des Nachmittags singt der proWAL-Chor einige Lieder und natürlich ist für Kaffee\, Tee und selbstgebackenen Kuchen gesorgt. Herzliche Einladung diesen Tag mit uns zu feiern!
URL:https://prowal.org/event/10-jahre-prowal-feier/
LOCATION:proWAL-GASThaus\, Türkismühler Straße 2\, Nohfelden\, Saarland\, 66625\, Deutschland
ATTACH;FMTTYPE=application/pdf:https://prowal.org/wp-content/uploads/2025/09/Plakat.pdf
END:VEVENT
BEGIN:VEVENT
DTSTART;TZID=UTC:20251003T190000
DTEND;TZID=UTC:20251003T210000
DTSTAMP:20260425T150623
CREATED:20250910T115724Z
LAST-MODIFIED:20250910T115724Z
UID:2525-1759518000-1759525200@prowal.org
SUMMARY:Konzert der "Jeanine Vahldiek Band"
DESCRIPTION:Die Jeanine Vahldiek Band kommt nach Walhausen zu proWAL mit poppiger Musik auf verschiedenen interessanten Instrumenten und pfiffigen Songs\, die …“beruhigen und in dieser ganzen stressigen Zeit einfach nur guttun.“ Wir freuen uns auf einen beschwingten und entspannten Abend!
URL:https://prowal.org/event/konzert-der-jeanine-vahldiek-band/
LOCATION:proWAL-GASThaus\, Türkismühler Straße 2\, Nohfelden\, Saarland\, 66625\, Deutschland
ATTACH;FMTTYPE=application/pdf:https://prowal.org/wp-content/uploads/2025/09/Jeanine-Vahldiek-Band.pdf
END:VEVENT
BEGIN:VEVENT
DTSTART;TZID=UTC:20250920T150000
DTEND;TZID=UTC:20250920T170000
DTSTAMP:20260425T150623
CREATED:20240129T175247Z
LAST-MODIFIED:20250918T180159Z
UID:2177-1758380400-1758387600@prowal.org
SUMMARY:Wildkräuterbetrachtung
DESCRIPTION:Auch im Herbst wachsen noch viele Kräuter! Diese wollen wir mit Marita von der Wildpflanzenwerkstatt proWAL bestimmen\, sammeln und naschen! Treffpunkt ist um 15 Uhr auf dem proWAL-Hof. Bei Regen findet evtl eine Kräuterbetrachtung im Mitarbeiterraum des landwirtsch. Gebäudes statt. \nAnmeldung und Fragen gerne an Marita Kliesa: m.kliesa@t-online.de
URL:https://prowal.org/event/wildpflanzen-werkstatt-2__trashed-2/
LOCATION:proWal-Hof\, Schoosbergstr. (Hinter dem Friedhof)\, Walhausen\, 66625
ATTACH;FMTTYPE=image/jpeg:https://prowal.org/wp-content/uploads/2022/10/20210807_124415.jpeg
END:VEVENT
BEGIN:VEVENT
DTSTART;TZID=UTC:20250831T150000
DTEND;TZID=UTC:20250831T173000
DTSTAMP:20260425T150623
CREATED:20250825T112741Z
LAST-MODIFIED:20250828T093419Z
UID:2512-1756652400-1756661400@prowal.org
SUMMARY:Klangwanderung "Nimm dir Zeit" mit dem Glockenkreis "WOHLKLANG"
DESCRIPTION:Herzliche Einladung zur Klangwanderung „Nimm dir Zeit“ mit dem Glockenkreis „WOHLKLANG“!\nSonntag\, 31. August um 15 Uhr\, nur bei trockenem Wetter ! !! \nTreffpunkt am Hofgebäude oben auf dem proWAL-Hof –\nParken vor dem Eingang des proWAL-Hofes hinter dem Friedhof Walhausen –\nAnmeldung: info@proWAL.org –\nMitbringen: Gutes Schuhwerk\, Wasserflasche\, eventuell kleine Verpflegung\, Sonnenschutz\, Wander- … Natur- … und\nLausch-Lust … und natürlich Zeit \nWir werden oben am proWAL-Hof die gemeinsame Klangwanderung mit dem ersten Musik- und Leseteil starten und dann ca 2 bis 2\,5 h\nunterwegs sein. An ausgesuchten Plätzen im Wald und am Wasser werden wir pausieren\, schönen Gedichten und Klängen lauschen und ganz in die Natur eintauchen.
URL:https://prowal.org/event/klangwanderung-nimm-dir-zeit-mit-dem-glockenkreis-wohlklang/
LOCATION:proWal-Hof\, Schoosbergstr. (Hinter dem Friedhof)\, Walhausen\, 66625
ATTACH;FMTTYPE=application/pdf:https://prowal.org/wp-content/uploads/2025/08/Klangwanderung.pdf
END:VEVENT
BEGIN:VEVENT
DTSTART;TZID=UTC:20250629T140000
DTEND;TZID=UTC:20250629T210000
DTSTAMP:20260425T150623
CREATED:20240614T200926Z
LAST-MODIFIED:20250627T101242Z
UID:2284-1751205600-1751230800@prowal.org
SUMMARY:Sommerfest auf dem proWAL-Hof
DESCRIPTION:Willkommen bei unserem Sommerfest auf dem proWAL-Hof! Eine gute Gelegenheit zum Kennenlernen der SoLaWi und zum Genießen der schönen Angebote! Es gibt Führungen\, Kräuterspaziergänge\, einen Quiz\, Bastelangebote für Kinder\, eine Kleiderstange mit guterhaltener Secondhand-Kleidung\, Geigenmusik zum Tanzen und natürlich leckere Sachen zum Essen und Trinken. Und am Abend Live-Musik ab 18h mit den Groovespecials! Viel Spaß!
URL:https://prowal.org/event/prowal-hoffest/
LOCATION:Saarland
ATTACH;FMTTYPE=application/pdf:https://prowal.org/wp-content/uploads/2024/06/Sommerfest_20proWAL_2025_final.pdf
END:VEVENT
BEGIN:VEVENT
DTSTART;TZID=UTC:20250628T100000
DTEND;TZID=UTC:20250628T233000
DTSTAMP:20260425T150623
CREATED:20240614T200241Z
LAST-MODIFIED:20250627T101659Z
UID:2281-1751104800-1751153400@prowal.org
SUMMARY:Johannifeuer auf dem proWAL-Hof
DESCRIPTION:Herzliche Einladung um 22.15 auf unseren proWAL-Hof zu kommen\, das Johannisfeuer zu entzünden und darüber zu springen! Wir feiern den längsten Tag mit Gesang und Tanz!
URL:https://prowal.org/event/johannifeuer-auf-dem-prowal-hof/
LOCATION:Saarland
ATTACH;FMTTYPE=image/jpeg:https://prowal.org/wp-content/uploads/2024/06/th.jpg
END:VEVENT
BEGIN:VEVENT
DTSTART;TZID=UTC:20250516T200000
DTEND;TZID=UTC:20250516T220000
DTSTAMP:20260425T150623
CREATED:20250510T073802Z
LAST-MODIFIED:20250510T073802Z
UID:2469-1747425600-1747432800@prowal.org
SUMMARY:Konzert mit Kasita Kanto
DESCRIPTION:Herzliche Einladung zu einem Konzert mit Kaŝita Kanto! Das deutschsprachige Singer-Songwriter-Duo bewegt sich mit\nihrer einzigartigen Mischung aus sinnsuchtsvoller Liedermalerei und sphärischem Welten-Folk jenseits des Mainstreams. Empfindsame Gitarrenmelodien\nmit kraftvollem Gesang und dem sphärischen Soundteppich der indischen Shruti-Box. Wir freuen uns auf einen entspannenden Abend!
URL:https://prowal.org/event/konzert-mit-kasita-kanto/
LOCATION:proWAL-GASThaus\, Türkismühler Straße 2\, Nohfelden\, Saarland\, 66625\, Deutschland
ATTACH;FMTTYPE=application/pdf:https://prowal.org/wp-content/uploads/2025/05/Plakat-Kasita-Kanto.pdf
END:VEVENT
BEGIN:VEVENT
DTSTART;TZID=UTC:20250502T190000
DTEND;TZID=UTC:20250502T210000
DTSTAMP:20260425T150623
CREATED:20241116T113733Z
LAST-MODIFIED:20250413T205443Z
UID:2408-1746212400-1746219600@prowal.org
SUMMARY:Eine Reise in den Iran
DESCRIPTION:Bita ist für einige Wochen auf dem Landweg in ihr Heimatland Iran gereist und hat spannende und berührende Dinge gesehen. An diesem Abend wird sie ihre Erlebnisse mit uns teilen und mit wunderschönen Fotos untermalen. Viel Freude bei einem spannenden und informativen Abend!
URL:https://prowal.org/event/eine-reise-in-den-iran/
LOCATION:proWAL-GASThaus\, Türkismühler Straße 2\, Nohfelden\, Saarland\, 66625\, Deutschland
ATTACH;FMTTYPE=image/jpeg:https://prowal.org/wp-content/uploads/2024/11/Iran-Tempel.jpg
END:VEVENT
BEGIN:VEVENT
DTSTART;TZID=UTC:20250329T100000
DTEND;TZID=UTC:20250329T170000
DTSTAMP:20260425T150623
CREATED:20250301T210709Z
LAST-MODIFIED:20250301T211621Z
UID:2438-1743242400-1743267600@prowal.org
SUMMARY:Frühjahrsputzfest und Kräuterbetrachtung
DESCRIPTION:Herzliche Einladung auf den proWAL-Hof zu einem Frühlingsputzfest! \nSamstag\, den 29.März ab 10h bis ~ 15h mit gemeinsamen Mittagessen (Suppe mit Brot und Salat) und Musik zwo drei! \nUm 16 Uhr wird es anschließend eine Kräuterbetrachtung geben mit Marita.\nWir sind gespannt\, was der Frühling uns schon an kleinen Kräutern bringt mit besten Nährstoffen für unsere Gesundheit. \nEs gibt Vieles zu tun – für Groß und Klein – wir freuen uns über helfende Hände. \n*die Hecke vom Gestrüpp des letzten Jahres befreien *den Swalehügel auskrauten *Steinhaufen umsiedeln *das Erdbeerbeet auskrauten *das Beet für die Rhabarberpflanzug vorbereiten *das Staudenbeet bei der Solarpumpe auskrauten *das Weidenrund schneiden und zusammenbinden *Wildpflanzen für den Salat sammeln *unser Hühnermobil anmalen ……. \nArbeitshandschuhe und gutes Schuhwerk mitbringen sowie eine Trinkflasche.
URL:https://prowal.org/event/fruehjahrsputzfest-und-kraeuterbetrachtung/
LOCATION:proWal-Hof\, Schoosbergstr. (Hinter dem Friedhof)\, Walhausen\, 66625
ATTACH;FMTTYPE=image/jpeg:https://prowal.org/wp-content/uploads/2025/03/4385daa984cec6150e1a622cab5f88aa.jpg
END:VEVENT
BEGIN:VEVENT
DTSTART;TZID=UTC:20250326T190000
DTEND;TZID=UTC:20250326T190000
DTSTAMP:20260425T150623
CREATED:20231031T110021Z
LAST-MODIFIED:20250319T093332Z
UID:2102-1743015600-1743015600@prowal.org
SUMMARY:Offener Mittwochstreff ab 19 Uhr
DESCRIPTION:Jeden Mittwochabend findet ab 19h im Gastraum des proWAL- GASThauses\, ehemals Gasthaus Stephan\, unser „Offener Treff“ statt!\n\nZeit zum Begegnen\, Kennen lernen\, Erzählen\, Spielen\, Musik machen….\n\nWir freuen uns auf geselliges Beisammensein!
URL:https://prowal.org/event/offener-mittwochstreff-ab-19-uhr-2-2-2/
LOCATION:proWAL-GASThaus\, Türkismühler Straße 2\, Nohfelden\, Saarland\, 66625\, Deutschland
ATTACH;FMTTYPE=image/jpeg:https://prowal.org/wp-content/uploads/2023/10/20230924_133228.jpg
END:VEVENT
BEGIN:VEVENT
DTSTART;TZID=UTC:20250319T190000
DTEND;TZID=UTC:20250319T210000
DTSTAMP:20260425T150623
CREATED:20231013T084949Z
LAST-MODIFIED:20250319T093224Z
UID:2041-1742410800-1742418000@prowal.org
SUMMARY:Offener Mittwochstreff ab 19 Uhr
DESCRIPTION:Jeden Mittwochabend findet ab 19h im neueröffneten Gastraum des proWAL- GASThauses\, ehemals Gasthaus Stephan\, unser „Offener Treff“ statt!\n\nZeit zum Begegnen\, Kennen lernen\, Erzählen\, Spielen\, Musik machen…..\n\n\n\nWir freuen uns auf geselliges Beisammensein!
URL:https://prowal.org/event/offener-mittwochstreff-ab-19-uhr-2/
LOCATION:proWAL-GASThaus\, Türkismühler Straße 2\, Nohfelden\, Saarland\, 66625\, Deutschland
ATTACH;FMTTYPE=image/jpeg:https://prowal.org/wp-content/uploads/2023/10/20230924_133228.jpg
END:VEVENT
BEGIN:VEVENT
DTSTART;TZID=UTC:20250216T190000
DTEND;TZID=UTC:20250216T200000
DTSTAMP:20260425T150623
CREATED:20250126T200255Z
LAST-MODIFIED:20260225T062623Z
UID:2431-1739732400-1739736000@prowal.org
SUMMARY:Fräulein Brehms Tierleben: "Die Wildbienen"
DESCRIPTION:Das einzige Theater für heimische gefährdete Tierarten präsentiert: \n„Die Wildbienen“ \nFräulein Brehm wird uns in einem amüsanten\, kurzweiligen Vortrag das Leben der wilden Bienen näher bringen\, unsere Begeisterung wecken und uns zum Staunen bringen. \nSonntag\, den 16. Februar 2025 um 19 Uhr
URL:https://prowal.org/event/fraeulein-brehms-tierleben-die-wildbienen/
LOCATION:proWAL-GASThaus\, Türkismühler Straße 2\, Nohfelden\, Saarland\, 66625\, Deutschland
ATTACH;FMTTYPE=application/pdf:https://prowal.org/wp-content/uploads/2025/01/Plakat-Entwurf-Wildbiene-mit-Veranstalter-03.pdf
END:VEVENT
BEGIN:VEVENT
DTSTART;TZID=UTC:20250126T160000
DTEND;TZID=UTC:20250126T170000
DTSTAMP:20260425T150624
CREATED:20250113T101658Z
LAST-MODIFIED:20250114T193956Z
UID:2426-1737907200-1737910800@prowal.org
SUMMARY:Puppentheater Bretterbude präsentiert: "Der Räuber im Bioladen"
DESCRIPTION:Herzliche Einladung zu einem Nachmittag mit Frank Friedrichs\, der uns mit Kasperle und seinen Freunden erfreuen wird\, die diesmal einen Raub im Bioladen verhindern müssen. Viel Spaß und Spannung beim Kasperletheater!
URL:https://prowal.org/event/kasperletheater-der-raeuber-im-bioladen-von-frank-friedrichs/
LOCATION:Saarland
ATTACH;FMTTYPE=image/jpeg:https://prowal.org/wp-content/uploads/2025/01/Scan_20250107.jpg
END:VEVENT
BEGIN:VEVENT
DTSTART;TZID=UTC:20241214T160000
DTEND;TZID=UTC:20241214T190000
DTSTAMP:20260425T150624
CREATED:20241127T192000Z
LAST-MODIFIED:20241127T192000Z
UID:2411-1734192000-1734202800@prowal.org
SUMMARY:Filzkurs mit Steffi Lang
DESCRIPTION:Herzliche Einladung! Steffi Lang bietet am Samstag\, den 14.12. einen Filzkurs an von 16h bis 19h – es werden Kerzenhüllen und Laternen gefilzt. Kosten: 40€ + Material    Anmeldung bitte bei Gisela: demuth-g@t-online.de
URL:https://prowal.org/event/filzkurs-mit-steffi-lang/
LOCATION:proWAL-GASThaus\, Türkismühler Straße 2\, Nohfelden\, Saarland\, 66625\, Deutschland
END:VEVENT
BEGIN:VEVENT
DTSTART;TZID=UTC:20241213T190000
DTEND;TZID=UTC:20241213T210000
DTSTAMP:20260425T150624
CREATED:20241127T195317Z
LAST-MODIFIED:20241127T195413Z
UID:2419-1734116400-1734123600@prowal.org
SUMMARY:Vortrag "Christus als Keim für die Zukunft"
DESCRIPTION:Herzliche Einladung zu einem Vortrag mit Paul-Steffen Garn\, dem Pfarrer der\nChristengemeinschaft in Saarbrücken. Das Thema des Vortrags ist: „Christus als Keim für die Zukunft“. Es schließt sich ein Austausch über das Thema an.
URL:https://prowal.org/event/vortrag/
LOCATION:proWAL-GASThaus\, Türkismühler Straße 2\, Nohfelden\, Saarland\, 66625\, Deutschland
END:VEVENT
BEGIN:VEVENT
DTSTART;TZID=UTC:20241211T190000
DTEND;TZID=UTC:20241211T203000
DTSTAMP:20260425T150624
CREATED:20241127T194212Z
LAST-MODIFIED:20241127T194314Z
UID:2416-1733943600-1733949000@prowal.org
SUMMARY:SoLaWi Bieterrunde für 2025
DESCRIPTION:Jedes Jahr versammeln sich die Mitglieder einer Solidarischen Landwirtschaft zu einer Bieterrunde\, um die nächste Anbausaison zu sichern. Alle Mitglieder und Interessierte sind an diesem Abend herzlich eingeladen mitzumachen\, damit wir uns auch im nächsten Jahr unsere Kiste gefüllt mit köstlichen\, in der Region biologisch angebauten Gemüse und Kräutern abholen können!
URL:https://prowal.org/event/solawi-bieterrunde-fuer-2025/
LOCATION:proWAL-GASThaus\, Türkismühler Straße 2\, Nohfelden\, Saarland\, 66625\, Deutschland
ATTACH;FMTTYPE=image/jpeg:https://prowal.org/wp-content/uploads/2024/07/Ernte-Geraetetraeger.jpg
END:VEVENT
BEGIN:VEVENT
DTSTART;TZID=UTC:20241209T180000
DTEND;TZID=UTC:20241209T193000
DTSTAMP:20260425T150624
CREATED:20241127T193134Z
LAST-MODIFIED:20241127T193134Z
UID:2413-1733767200-1733772600@prowal.org
SUMMARY:Lebendiger Adventskalender
DESCRIPTION:Herzliche Einladung zum Adventstreffen im proWAL-GASThaus mit Punsch und Adventslieder singen! Bitte einen Becher mitbringen.
URL:https://prowal.org/event/lebendiger-adventskalender/
LOCATION:proWAL-GASThaus\, Türkismühler Straße 2\, Nohfelden\, Saarland\, 66625\, Deutschland
ATTACH;FMTTYPE=image/jpeg:https://prowal.org/wp-content/uploads/2024/11/advent-3639490__480.jpg
END:VEVENT
BEGIN:VEVENT
DTSTART;TZID=UTC:20241115T190000
DTEND;TZID=UTC:20241115T210000
DTSTAMP:20260425T150624
CREATED:20240117T173651Z
LAST-MODIFIED:20241030T192604Z
UID:2182-1731697200-1731704400@prowal.org
SUMMARY:Gitarre und Gesang mit Frank Friedrichs
DESCRIPTION:Einladung zu einem Konzert mit Frank Friedrichs! Frank ist Liedermacher und schreibt selbst die Melodien und Texte seiner Songs. Viel Spaß bei einem Abend mit spannender Musik!
URL:https://prowal.org/event/gitarre-und-gesang-mit-frank-friedrichs/
LOCATION:proWAL-GASThaus\, Türkismühler Straße 2\, Nohfelden\, Saarland\, 66625\, Deutschland
ATTACH;FMTTYPE=image/jpeg:https://prowal.org/wp-content/uploads/2024/01/IMG_1773.jpeg
END:VEVENT
END:VCALENDAR