BEGIN:VCALENDAR
VERSION:2.0
PRODID:-//proWAL  Wohnen - Arbeiten - Leben - ECPv6.15.11//NONSGML v1.0//EN
CALSCALE:GREGORIAN
METHOD:PUBLISH
X-ORIGINAL-URL:https://prowal.org
X-WR-CALDESC:Veranstaltungen für proWAL  Wohnen - Arbeiten - Leben
REFRESH-INTERVAL;VALUE=DURATION:PT1H
X-Robots-Tag:noindex
X-PUBLISHED-TTL:PT1H
BEGIN:VTIMEZONE
TZID:UTC
BEGIN:STANDARD
TZOFFSETFROM:+0000
TZOFFSETTO:+0000
TZNAME:UTC
DTSTART:20250101T000000
END:STANDARD
END:VTIMEZONE
BEGIN:VEVENT
DTSTART;TZID=UTC:20260505T150000
DTEND;TZID=UTC:20260505T170000
DTSTAMP:20260425T193708
CREATED:20231013T081842Z
LAST-MODIFIED:20260416T084428Z
UID:2033-1777993200-1778000400@prowal.org
SUMMARY:Café Miteinander
DESCRIPTION:Herzliche Einladung zum Café Miteinander\, das an jedem 1. Dienstag im Monat stattfindet für Jung und Alt! \nWir wollen Singen\, Erzählen\, Spielen… und es gibt Kaffee und Kuchen. 🙂
URL:https://prowal.org/event/seniorennachmittag/
LOCATION:proWAL-GASThaus\, Türkismühler Straße 2\, Nohfelden\, Saarland\, 66625\, Deutschland
ATTACH;FMTTYPE=image/jpeg:https://prowal.org/wp-content/uploads/2023/10/20230924_133459-e1697185287856.jpg
END:VEVENT
END:VCALENDAR