BEGIN:VCALENDAR
VERSION:2.0
PRODID:-//proWAL  Wohnen - Arbeiten - Leben - ECPv6.15.11//NONSGML v1.0//EN
CALSCALE:GREGORIAN
METHOD:PUBLISH
X-ORIGINAL-URL:https://prowal.org
X-WR-CALDESC:Veranstaltungen für proWAL  Wohnen - Arbeiten - Leben
REFRESH-INTERVAL;VALUE=DURATION:PT1H
X-Robots-Tag:noindex
X-PUBLISHED-TTL:PT1H
BEGIN:VTIMEZONE
TZID:UTC
BEGIN:STANDARD
TZOFFSETFROM:+0000
TZOFFSETTO:+0000
TZNAME:UTC
DTSTART:20250101T000000
END:STANDARD
END:VTIMEZONE
BEGIN:VEVENT
DTSTART;TZID=UTC:20260426T020000
DTEND;TZID=UTC:20260426T190000
DTSTAMP:20260425T145958
CREATED:20250728T075623Z
LAST-MODIFIED:20260415T082016Z
UID:2494-1777168800-1777230000@prowal.org
SUMMARY:Wildpflanzen-Erlebnistag
DESCRIPTION:Die Wildpflanzenwerkstatt lädt ein\, die Kostbarkeiten der\nuns umgebenden Natur zu entdecken und sie in Achtsamkeit und Dankbarkeit zu verwenden. Mit\nallen Sinnen tauchen wir ein in die Welt\nder essbaren Wild- & Heilpflanzen und erkunden die Wunder der Natur. Anmeldung bitte bis zum 18.04.2026 per Mail. Kontakt:\nmatthiasschneider19@posteo.de\nChristine Kuenen\ninfo@feldenkrais-kuenen.de
URL:https://prowal.org/event/wildpflanzen-erlebnistag/
LOCATION:proWal-Hof\, Schoosbergstr. (Hinter dem Friedhof)\, Walhausen\, 66625
ATTACH;FMTTYPE=application/pdf:https://prowal.org/wp-content/uploads/2025/07/Flyer_Wildpflanzenerlebnistag_innen_20260326.pdf
END:VEVENT
END:VCALENDAR