BEGIN:VCALENDAR
VERSION:2.0
PRODID:-//proWAL  Wohnen - Arbeiten - Leben - ECPv6.15.11//NONSGML v1.0//EN
CALSCALE:GREGORIAN
METHOD:PUBLISH
X-ORIGINAL-URL:https://prowal.org
X-WR-CALDESC:Veranstaltungen für proWAL  Wohnen - Arbeiten - Leben
REFRESH-INTERVAL;VALUE=DURATION:PT1H
X-Robots-Tag:noindex
X-PUBLISHED-TTL:PT1H
BEGIN:VTIMEZONE
TZID:UTC
BEGIN:STANDARD
TZOFFSETFROM:+0000
TZOFFSETTO:+0000
TZNAME:UTC
DTSTART:20250101T000000
END:STANDARD
END:VTIMEZONE
BEGIN:VEVENT
DTSTART;TZID=UTC:20260313T190000
DTEND;TZID=UTC:20260313T210000
DTSTAMP:20260426T042220
CREATED:20250408T141054Z
LAST-MODIFIED:20260210T140124Z
UID:2448-1773428400-1773435600@prowal.org
SUMMARY:Konzert mit "seelig-süß-sauer"
DESCRIPTION:Wir freuen uns auf einen unterhaltsamen Abend mit dem Trio von „seelig-süß-sauer“! Lasst Euch in dieser besonderen Wohlfühlzeit von zauberhaften\nKlängen\, Wortwandeleien\, frischfröhlichfreier Frauenfreude und\nberührender SeelenMusik des Trios „seelig• süß• sauer“\nIJah S. Seelig\, Tanja Endres-Klemm und Kathrin Hoffmann\nüberraschen\, tragen\, berühren … und schwingt Euch mit ein!\nIn ihrem Gepäck haben sie viele ausgefallene Instrumente\,\neigene Stücke und ganz spontan entstehende Liedtexte und\nImprovisationen. Das Konzert dauert ca 2 Stunden. Eintritt auf\nSpendenbasis nach eigenen Möglichkeiten ( ab 10 € ).
URL:https://prowal.org/event/konzert-mit-seligsuesssauer/
LOCATION:proWAL-GASThaus\, Türkismühler Straße 2\, Nohfelden\, Saarland\, 66625\, Deutschland
ATTACH;FMTTYPE=application/pdf:https://prowal.org/wp-content/uploads/2025/04/Wohlfuehlkonzert-GASThaus26-1.pdf
END:VEVENT
END:VCALENDAR