BEGIN:VCALENDAR
VERSION:2.0
PRODID:-//proWAL  Wohnen - Arbeiten - Leben - ECPv6.15.11//NONSGML v1.0//EN
CALSCALE:GREGORIAN
METHOD:PUBLISH
X-WR-CALNAME:proWAL  Wohnen - Arbeiten - Leben
X-ORIGINAL-URL:https://prowal.org
X-WR-CALDESC:Veranstaltungen für proWAL  Wohnen - Arbeiten - Leben
REFRESH-INTERVAL;VALUE=DURATION:PT1H
X-Robots-Tag:noindex
X-PUBLISHED-TTL:PT1H
BEGIN:VTIMEZONE
TZID:UTC
BEGIN:STANDARD
TZOFFSETFROM:+0000
TZOFFSETTO:+0000
TZNAME:UTC
DTSTART:20250101T000000
END:STANDARD
END:VTIMEZONE
BEGIN:VEVENT
DTSTART;TZID=UTC:20260130T190000
DTEND;TZID=UTC:20260130T210000
DTSTAMP:20260425T220226
CREATED:20260109T150631Z
LAST-MODIFIED:20260128T091508Z
UID:2582-1769799600-1769806800@prowal.org
SUMMARY:Gitarrenkonzert mit "bornzero"
DESCRIPTION:Dieter „bornzero“ Bornschlegel kommt am 30. Januar 26 ins proWAL-GASThaus. Er ist der „ungekrönte König der Horizontalgitarre“\, sitzt passgenau zwischen allen Stühlen (Kultur News!) und ist der Mann mit dem ganz eigenen Kopf‘ (Rolling Stone). „Psychedelic freestyle guitar“ nennt der Marburger Gitarren Virtuose\, Sänger und Songschreiber DIETER „bornzero“ BORNSCHLEGEL seine elektroakustische Soloperformance. Wir freuen uns auf einen besonderen Abend!
URL:https://prowal.org/event/gitarrenkonzert-mit-bornzero/
LOCATION:proWAL-GASThaus\, Türkismühler Straße 2\, Nohfelden\, Saarland\, 66625\, Deutschland
ATTACH;FMTTYPE=image/jpeg:https://prowal.org/wp-content/uploads/2026/01/Plakat_proWAL-bornzero.jpg
END:VEVENT
END:VCALENDAR