BEGIN:VCALENDAR
VERSION:2.0
PRODID:-//proWAL  Wohnen - Arbeiten - Leben - ECPv6.15.11//NONSGML v1.0//EN
CALSCALE:GREGORIAN
METHOD:PUBLISH
X-ORIGINAL-URL:https://prowal.org
X-WR-CALDESC:Veranstaltungen für proWAL  Wohnen - Arbeiten - Leben
REFRESH-INTERVAL;VALUE=DURATION:PT1H
X-Robots-Tag:noindex
X-PUBLISHED-TTL:PT1H
BEGIN:VTIMEZONE
TZID:UTC
BEGIN:STANDARD
TZOFFSETFROM:+0000
TZOFFSETTO:+0000
TZNAME:UTC
DTSTART:20230101T000000
END:STANDARD
END:VTIMEZONE
BEGIN:VEVENT
DTSTART;TZID=UTC:20240303T100000
DTEND;TZID=UTC:20240303T140000
DTSTAMP:20260421T105826
CREATED:20240222T120933Z
LAST-MODIFIED:20240227T212028Z
UID:2205-1709460000-1709474400@prowal.org
SUMMARY:Bringe deinen inneren Garten zum Blühen
DESCRIPTION:Lebst du noch auf Sparflamme? Vielleicht möchtest du unbeschwerter und freudiger sein? Elke Welsch lädt uns in diesem Workshop ein\, unsere wahre Natur zu erkennen und unser Potential zu entfalten. Meditative Trancereisen\, Atem- und Körperübungen sowie effektive Selbsthilfetechniken aus der energetischen Medizin helfen uns dabei. Bequeme Kleidung und einen Beitrag zum Essensbüffet bitte mitbringen.
URL:https://prowal.org/event/lebst-du-auch-auf-sparflamme/
LOCATION:proWAL-GASThaus\, Türkismühler Straße 2\, Nohfelden\, Saarland\, 66625\, Deutschland
ATTACH;FMTTYPE=image/jpeg:https://prowal.org/wp-content/uploads/2024/02/woman-2667455_1280.jpg-Freiheit-Bild-Webseite.jpg
END:VEVENT
END:VCALENDAR