BEGIN:VCALENDAR
VERSION:2.0
PRODID:-//proWAL  Wohnen - Arbeiten - Leben - ECPv6.15.11//NONSGML v1.0//EN
CALSCALE:GREGORIAN
METHOD:PUBLISH
X-ORIGINAL-URL:https://prowal.org
X-WR-CALDESC:Veranstaltungen für proWAL  Wohnen - Arbeiten - Leben
REFRESH-INTERVAL;VALUE=DURATION:PT1H
X-Robots-Tag:noindex
X-PUBLISHED-TTL:PT1H
BEGIN:VTIMEZONE
TZID:UTC
BEGIN:STANDARD
TZOFFSETFROM:+0000
TZOFFSETTO:+0000
TZNAME:UTC
DTSTART:20230101T000000
END:STANDARD
END:VTIMEZONE
BEGIN:VEVENT
DTSTART;TZID=UTC:20240227T190000
DTEND;TZID=UTC:20240227T203000
DTSTAMP:20260421T105748
CREATED:20240211T210222Z
LAST-MODIFIED:20240211T210222Z
UID:2198-1709060400-1709065800@prowal.org
SUMMARY:Singabend
DESCRIPTION:Herzliche Einladung zum gemeinsamen Singen unter der Leitung von Martina Veit! Wir werden zu Beginn mit einigen Übungen unsere Stimme aufwärmen und anschließend leicht zu singende Lieder mit zwei bis drei Stimmen einüben. Viel Spaß beim harmonischen Singen! \n 
URL:https://prowal.org/event/singabend/
LOCATION:proWAL-GASThaus\, Türkismühler Straße 2\, Nohfelden\, Saarland\, 66625\, Deutschland
ATTACH;FMTTYPE=image/png:https://prowal.org/wp-content/uploads/2024/02/choir-303302__480.png
END:VEVENT
END:VCALENDAR