BEGIN:VCALENDAR
VERSION:2.0
PRODID:-//proWAL  Wohnen - Arbeiten - Leben - ECPv6.15.11//NONSGML v1.0//EN
CALSCALE:GREGORIAN
METHOD:PUBLISH
X-WR-CALNAME:proWAL  Wohnen - Arbeiten - Leben
X-ORIGINAL-URL:https://prowal.org
X-WR-CALDESC:Veranstaltungen für proWAL  Wohnen - Arbeiten - Leben
REFRESH-INTERVAL;VALUE=DURATION:PT1H
X-Robots-Tag:noindex
X-PUBLISHED-TTL:PT1H
BEGIN:VTIMEZONE
TZID:UTC
BEGIN:STANDARD
TZOFFSETFROM:+0000
TZOFFSETTO:+0000
TZNAME:UTC
DTSTART:20230101T000000
END:STANDARD
END:VTIMEZONE
BEGIN:VEVENT
DTSTART;TZID=UTC:20240202T190000
DTEND;TZID=UTC:20240202T200000
DTSTAMP:20260421T122332
CREATED:20240129T173559Z
LAST-MODIFIED:20240129T174003Z
UID:2190-1706900400-1706904000@prowal.org
SUMMARY:Traumreise
DESCRIPTION:Herzliche Einladung zu entspannen und mit Jerôme auf eine Traumreise zu gehen… \nTraumreisen können dafür sorgen\, dass Verspannungen nachlassen\, man konzentrierter und ruhiger wird und Abstand nimmt vom stressigen Alltag.\n\nZeit für den Besuch einer Oase der Ruhe. Bitte in bequemer Kleidung kommen und eine Matte und/oder eine Decke mitbringen.
URL:https://prowal.org/event/traumreise/
LOCATION:proWAL-GASThaus\, Türkismühler Straße 2\, Nohfelden\, Saarland\, 66625\, Deutschland
ATTACH;FMTTYPE=image/jpeg:https://prowal.org/wp-content/uploads/2024/01/unsplash-image-t6t2-gXKxXM-scaled-1.jpg
END:VEVENT
END:VCALENDAR