BEGIN:VCALENDAR
VERSION:2.0
PRODID:-//proWAL  Wohnen - Arbeiten - Leben - ECPv6.15.11//NONSGML v1.0//EN
CALSCALE:GREGORIAN
METHOD:PUBLISH
X-ORIGINAL-URL:https://prowal.org
X-WR-CALDESC:Veranstaltungen für proWAL  Wohnen - Arbeiten - Leben
REFRESH-INTERVAL;VALUE=DURATION:PT1H
X-Robots-Tag:noindex
X-PUBLISHED-TTL:PT1H
BEGIN:VTIMEZONE
TZID:UTC
BEGIN:STANDARD
TZOFFSETFROM:+0000
TZOFFSETTO:+0000
TZNAME:UTC
DTSTART:20220101T000000
END:STANDARD
END:VTIMEZONE
BEGIN:VEVENT
DTSTART;TZID=UTC:20231119T160000
DTEND;TZID=UTC:20231119T170000
DTSTAMP:20260423T134531
CREATED:20231031T102816Z
LAST-MODIFIED:20231105T192630Z
UID:2088-1700409600-1700413200@prowal.org
SUMMARY:Fräulein Brehms Tierleben: "Die Wildkatze"
DESCRIPTION:Das einzige Theater für heimische gefährdete Tierarten präsentiert: \n„Die Wildkatze“ \nFräulein Brehm wird uns in einem amüsanten\, kurzweiligen Vortrag das Leben der Wildkatze näher bringen\, unsere Begeisterung wecken und uns zum Staunen bringen. \nSonntag\, den 19. November 2023 um 16 Uhr \n 
URL:https://prowal.org/event/vortrag-die-wildkatze-mit-fraeulein-brehm/
LOCATION:proWAL-GASThaus\, Türkismühler Straße 2\, Nohfelden\, Saarland\, 66625\, Deutschland
ATTACH;FMTTYPE=application/pdf:https://prowal.org/wp-content/uploads/2023/10/Die-Wildkatze.pdf
END:VEVENT
END:VCALENDAR