BEGIN:VCALENDAR
VERSION:2.0
PRODID:-//proWAL  Wohnen - Arbeiten - Leben - ECPv6.15.11//NONSGML v1.0//EN
CALSCALE:GREGORIAN
METHOD:PUBLISH
X-WR-CALNAME:proWAL  Wohnen - Arbeiten - Leben
X-ORIGINAL-URL:https://prowal.org
X-WR-CALDESC:Veranstaltungen für proWAL  Wohnen - Arbeiten - Leben
REFRESH-INTERVAL;VALUE=DURATION:PT1H
X-Robots-Tag:noindex
X-PUBLISHED-TTL:PT1H
BEGIN:VTIMEZONE
TZID:UTC
BEGIN:STANDARD
TZOFFSETFROM:+0000
TZOFFSETTO:+0000
TZNAME:UTC
DTSTART:20220101T000000
END:STANDARD
END:VTIMEZONE
BEGIN:VEVENT
DTSTART;TZID=UTC:20231110T190000
DTEND;TZID=UTC:20231110T200000
DTSTAMP:20260423T134341
CREATED:20231105T193837Z
LAST-MODIFIED:20231105T193837Z
UID:2110-1699642800-1699646400@prowal.org
SUMMARY:Klangmeditation
DESCRIPTION:19h Klangmeditation \nmit Tanja Endres-Klemm im Rahmen der „Woche der Stille“
URL:https://prowal.org/event/klangmeditation/
LOCATION:proWAL-GASThaus\, Türkismühler Straße 2\, Nohfelden\, Saarland\, 66625\, Deutschland
ATTACH;FMTTYPE=image/jpeg:https://prowal.org/wp-content/uploads/2023/11/pexels-cottonbro-studio-5602461.jpg
END:VEVENT
END:VCALENDAR