BEGIN:VCALENDAR
VERSION:2.0
PRODID:-//proWAL  Wohnen - Arbeiten - Leben - ECPv6.15.11//NONSGML v1.0//EN
CALSCALE:GREGORIAN
METHOD:PUBLISH
X-WR-CALNAME:proWAL  Wohnen - Arbeiten - Leben
X-ORIGINAL-URL:https://prowal.org
X-WR-CALDESC:Veranstaltungen für proWAL  Wohnen - Arbeiten - Leben
REFRESH-INTERVAL;VALUE=DURATION:PT1H
X-Robots-Tag:noindex
X-PUBLISHED-TTL:PT1H
BEGIN:VTIMEZONE
TZID:UTC
BEGIN:STANDARD
TZOFFSETFROM:+0000
TZOFFSETTO:+0000
TZNAME:UTC
DTSTART:20220101T000000
END:STANDARD
END:VTIMEZONE
BEGIN:VEVENT
DTSTART;TZID=UTC:20230924T110000
DTEND;TZID=UTC:20230924T220000
DTSTAMP:20260423T164200
CREATED:20230911T114513Z
LAST-MODIFIED:20230911T115111Z
UID:1973-1695553200-1695592800@prowal.org
SUMMARY:Eröffnung der Begegnungsstätte GASThaus Stephan
DESCRIPTION:Nach langer Zeit der Renovierens ist unser Gastraum im alten GASThaus Stephan in Walhausen – Türkismühler Str.2 fertiggestellt. In den beiden Eröffnungswochen möchten wir bei proWAL dies feiern und unsere Angebote vorstellen: \n——————————————————————————————————————————— \nSonntag\, den 24.9. Eröffnungsmatinée mit musikalischem Rahmenprogramm ab 11h \num 11.30h offizielle Eröffnung \nErntedanksuppe mit selbst gebackenem Brot Parkmöglichkeiten am Kreisel und beim Dorfgemeinschaftshaus oder Anfahrt mit dem Zug\, Walhausen hat einen Bahnhof 🙂\n \nab 15h Kaffee und Kuchen \nabends: gemütliches Beisammensein \nDienstag\, den 26.9. Erzählabend zum GASThaus\, 19h \nWer kann sich noch an Geschichten übers GASThaus erinnern? Bitte vorbeikommen! \nWir sind gespannt auf alte und neue Anekdoten und Zukünftiges ….. \nDonnerstag\, den 28.9. Kindernachmittag 15h-17h für kleine und große Kinder\, gerne mit den Eltern  \nFreitag\, den 29.9. „Der Drache“; wir lesen das Theaterstück von Jewgenij Schwarz mit verteilten Rollen 19h \nSamstag\, den 30.9. Hoffest ab 14h \, oberhalb vom Walhausener Friedhof \nFührungen über unsere Anbauflächen Parken bitte in der Dorfmitte am Kreisel \nVorstellung unserer SolawiEröffnungGasthaus24.9.23 \nTrialbike-Choreographie mit Max und Eva (Fahrradakrobatik) \nPonyreiten\, Spiele … und Irish Folk mit Ralf& Co \nSonntag\, den 1.Oktober: 14h Kräuterwanderung auf unserem Hof \nSonntag\, den 1.Oktober: Vortrag von Eva Stützel (Gemeinschaft Siebenlinden) 19h  \nChancen und Herausforderungen in Gemeinschaften \nMittwoch\, den 4.Oktober: Seniorennachmittag bei Kaffee und Kuchen 15h Singen und Spielen…… \nWir können gerne einen Fahrdienst einrichten. \nFreitag\, den 6.10. Unsere Wildpflanzenwerkstatt stellt sich vor\, 19h  \nWir wollen  Hustensaft und eine Salbe herstellen \nSamstag\, den 7.10. Konzert mit Frank Friedrichs 19h \nsaarländischer Liedermacher\, Gesang+Gitarre \nFreitag\, den 13.10. Internationale Kreistänze mit Ingeburg 19h \nkeineVorkenntnisse erforderlich \nAlle angebotenen Speisen und Getränke sind in Bio-Qualität\, vegetarisch\, regional oder aus fairem Handel. \nInfo@proWAL.org www.proWAL.org Tel. 06852 809461 \, bitte auf den AB sprechen \n 
URL:https://prowal.org/event/eroeffnung-der-begegnungsstaette-gasthaus-stephan/
LOCATION:proWAL-GASThaus\, Türkismühler Straße 2\, Nohfelden\, Saarland\, 66625\, Deutschland
ATTACH;FMTTYPE=application/pdf:https://prowal.org/wp-content/uploads/2023/09/EroeffnungGasthaus24.9.23-2.pdf
END:VEVENT
END:VCALENDAR